BEGIN:VCALENDAR
VERSION:2.0
PRODID:-//Keshet Eilon - ECPv6.15.12.2//NONSGML v1.0//EN
CALSCALE:GREGORIAN
METHOD:PUBLISH
X-WR-CALNAME:Keshet Eilon
X-ORIGINAL-URL:https://www.keshetei.org.il
X-WR-CALDESC:Events for Keshet Eilon
REFRESH-INTERVAL;VALUE=DURATION:PT1H
X-Robots-Tag:noindex
X-PUBLISHED-TTL:PT1H
BEGIN:VTIMEZONE
TZID:Asia/Jerusalem
BEGIN:DAYLIGHT
TZOFFSETFROM:+0200
TZOFFSETTO:+0300
TZNAME:IDT
DTSTART:20250328T000000
END:DAYLIGHT
BEGIN:STANDARD
TZOFFSETFROM:+0300
TZOFFSETTO:+0200
TZNAME:IST
DTSTART:20251025T230000
END:STANDARD
BEGIN:DAYLIGHT
TZOFFSETFROM:+0200
TZOFFSETTO:+0300
TZNAME:IDT
DTSTART:20260327T000000
END:DAYLIGHT
BEGIN:STANDARD
TZOFFSETFROM:+0300
TZOFFSETTO:+0200
TZNAME:IST
DTSTART:20261024T230000
END:STANDARD
BEGIN:DAYLIGHT
TZOFFSETFROM:+0200
TZOFFSETTO:+0300
TZNAME:IDT
DTSTART:20270326T000000
END:DAYLIGHT
BEGIN:STANDARD
TZOFFSETFROM:+0300
TZOFFSETTO:+0200
TZNAME:IST
DTSTART:20271030T230000
END:STANDARD
END:VTIMEZONE
BEGIN:VEVENT
DTSTART;TZID=Asia/Jerusalem:20260504T180000
DTEND;TZID=Asia/Jerusalem:20260504T210000
DTSTAMP:20260423T225920
CREATED:20260423T090000Z
LAST-MODIFIED:20260423T090000Z
UID:10531-1777917600-1777928400@www.keshetei.org.il
SUMMARY:New York Gala Concert
DESCRIPTION:New York Gala Concert — an evening of live music performed by Keshet Eilon graduates\, followed by dinner and a charity auction. \nThis year\, our auction is dedicated to the significant needs Keshet Eilon faces amid the ongoing war. Your support means more than ever.  \nWe hope to see you there. \n 
URL:https://www.keshetei.org.il/event/new-york-gala-concert-2/
CATEGORIES:Domestic Concert
ATTACH;FMTTYPE=image/jpeg:https://www.keshetei.org.il/wp-content/uploads/2026/04/Keshet-122-scaled.jpg
END:VEVENT
END:VCALENDAR